BEGIN:VCALENDAR
VERSION:2.0
PRODID:-//St. Matthew&#039;s Cathedral Arts - ECPv6.15.20//NONSGML v1.0//EN
CALSCALE:GREGORIAN
METHOD:PUBLISH
X-ORIGINAL-URL:https://cathedralartsdallas.org
X-WR-CALDESC:Events for St. Matthew&#039;s Cathedral Arts
REFRESH-INTERVAL;VALUE=DURATION:PT1H
X-Robots-Tag:noindex
X-PUBLISHED-TTL:PT1H
BEGIN:VTIMEZONE
TZID:UTC
BEGIN:STANDARD
TZOFFSETFROM:+0000
TZOFFSETTO:+0000
TZNAME:UTC
DTSTART:20160101T000000
END:STANDARD
END:VTIMEZONE
BEGIN:VEVENT
DTSTART;TZID=UTC:20220206T170000
DTEND;TZID=UTC:20220206T170000
DTSTAMP:20260424T033856
CREATED:20211111T031332Z
LAST-MODIFIED:20220111T224655Z
UID:5123-1644166800-1644166800@cathedralartsdallas.org
SUMMARY:Choral Evensong with the Cathedral Arts Choral Artists
DESCRIPTION:Music for Treble Voices\nsung by the Cathedral Arts Choral Artists\nMonica Awbrey\, Director\nwith\nThe Very Reverend Robert Price\nDean of the Cathedral\nThe Anglican service of Evensong is an ancient tradition\, dating to the 1549 Book of Common Prayer. The music\, the sung and spoken words and the beautiful surroundings will bring you into a world of quiet reflection before a busy week begins\, away from the endless distractions of modern life. Bring a friend! The entire community is welcome. \nEvent flyer HERE. \nMore about the Evensong tradition at St. Matthew’s Cathedral Arts
URL:https://cathedralartsdallas.org/event/choral-evensong-with-the-cathedral-arts-choral-artists-2-6-22/
LOCATION:Great Hall\, St. Matthew’s Cathedral\, 5100 Ross Avenue at North Henderson\, Dallas\, TX\, 75206\, United States
CATEGORIES:Choral,Choral Evensong,Music
ATTACH;FMTTYPE=image/jpeg:https://cathedralartsdallas.org/wp-content/uploads/2020/10/cathedral-pulpit-and-window.jpg
ORGANIZER;CN="St. Matthew's Cathedral Arts":MAILTO:info@cathedralartsdallas.org
END:VEVENT
BEGIN:VEVENT
DTSTART;TZID=UTC:20211024T170000
DTEND;TZID=UTC:20211024T170000
DTSTAMP:20260424T033856
CREATED:20210603T034746Z
LAST-MODIFIED:20211015T022051Z
UID:4825-1635094800-1635094800@cathedralartsdallas.org
SUMMARY:Choral Evensong with the Cathedral Arts Choral Artists
DESCRIPTION:sung by the\nCathedral Arts Choral Artists\nH. Michie Akin\, Guest Conductor\nMusic of Stephen Paulus\, Paul Spicer\, Henry Walford Davis\,\nPhilip Stopford and Edgar Bainton\nwith\nThe Very Reverend Robert Price\nDean of the Cathedral\nThe Anglican service of Evensong is an ancient tradition\, dating to the 1549 Book of Common Prayer. The music\, the sung and spoken words and the beautiful surroundings will bring you into a world of quiet reflection before a busy week begins\, away from the endless distractions of modern life. Bring a friend! The entire community is welcome. \nEvent flyer HERE. \nMore about the Evensong tradition at St. Matthew’s Cathedral Arts
URL:https://cathedralartsdallas.org/event/choral-evensong-10-24-21/
LOCATION:Zoom Video Platform\, TX\, United States
CATEGORIES:Choral,Choral Evensong,Music
ATTACH;FMTTYPE=image/jpeg:https://cathedralartsdallas.org/wp-content/uploads/2020/10/cathedral-pulpit-and-window.jpg
ORGANIZER;CN="St. Matthew's Cathedral Arts":MAILTO:info@cathedralartsdallas.org
END:VEVENT
BEGIN:VEVENT
DTSTART;TZID=UTC:20210516T160000
DTEND;TZID=UTC:20210516T160000
DTSTAMP:20260424T033856
CREATED:20201016T195022Z
LAST-MODIFIED:20210425T224806Z
UID:4549-1621180800-1621180800@cathedralartsdallas.org
SUMMARY:Choral Evensong
DESCRIPTION:sung by the\nCathedral Arts Choral Artists\nMonica Awbrey\, Director\nwith\nThe Very Reverend Robert Price\nDean of the Cathedral\nThe Anglican service of Evensong is an ancient tradition\, dating to the 1549 Book of Common Prayer. The music\, the sung and spoken words and the beautiful surroundings will bring you into a world of quiet reflection before a busy week begins\, away from the endless distractions of modern life. Bring a friend! The entire community is welcome. \nEvent flyer HERE. \nMore about the Evensong tradition at St. Matthew’s Cathedral Arts
URL:https://cathedralartsdallas.org/event/choral-evensong-5-16-21/
LOCATION:Zoom Video Platform\, TX\, United States
CATEGORIES:Choral,Choral Evensong,Music
ATTACH;FMTTYPE=image/jpeg:https://cathedralartsdallas.org/wp-content/uploads/2020/10/cathedral-pulpit-and-window.jpg
ORGANIZER;CN="St. Matthew's Cathedral Arts":MAILTO:info@cathedralartsdallas.org
END:VEVENT
BEGIN:VEVENT
DTSTART;TZID=UTC:20210418T160000
DTEND;TZID=UTC:20210418T160000
DTSTAMP:20260424T033856
CREATED:20201016T192144Z
LAST-MODIFIED:20210413T044003Z
UID:4547-1618761600-1618761600@cathedralartsdallas.org
SUMMARY:Choral Evensong on the Lawn
DESCRIPTION:sung by the\nCathedral Arts Choral Artists\nMonica Awbrey\, Director\nwith\nThe Very Reverend Robert Price\nDean of the Cathedral\nThe Anglican service of Evensong is an ancient tradition\, dating to the 1549 Book of Common Prayer. The music\, the sung and spoken words and the beautiful surroundings will bring you into a world of quiet reflection before a busy week begins\, away from the endless distractions of modern life. Bring a friend! The entire community is welcome. \nEvent flyer HERE. \nMore about the Evensong tradition at St. Matthew’s Cathedral Arts
URL:https://cathedralartsdallas.org/event/choral-evensong-4-18-21/
LOCATION:Zoom Video Platform\, TX\, United States
CATEGORIES:Choral,Choral Evensong,Music
ATTACH;FMTTYPE=image/jpeg:https://cathedralartsdallas.org/wp-content/uploads/2020/09/evensong5crop.jpg
ORGANIZER;CN="St. Matthew's Cathedral Arts":MAILTO:info@cathedralartsdallas.org
END:VEVENT
BEGIN:VEVENT
DTSTART;TZID=UTC:20210307T160000
DTEND;TZID=UTC:20210307T160000
DTSTAMP:20260424T033856
CREATED:20201012T023245Z
LAST-MODIFIED:20210301T041904Z
UID:4532-1615132800-1615132800@cathedralartsdallas.org
SUMMARY:Choral Evensong
DESCRIPTION:CHORAL EVENSONG \nFOR THE THIRD SUNDAY IN LENT\nSunday\, March 7 at 4:00 pm\nsung by the Cathedral Arts Choral Artists\nwith\nThe Very Reverend Robert Price\nDean of the Cathedral\nalso live streamed at facebook.com/stmatthewscathedraldallas\nThe Anglican service of Evensong is an ancient tradition\, dating to the 1549 Book of Common Prayer. The music\, the sung and spoken words and the beautiful surroundings will bring you into a world of quiet reflection before a busy week begins\, away from the endless distractions of modern life. Bring a friend! The entire community is welcome. \nEvent flyer HERE. \nMore about the Evensong tradition at St. Matthew’s Cathedral Arts
URL:https://cathedralartsdallas.org/event/choral-evensong-3-7-21/
LOCATION:Zoom Video Platform\, TX\, United States
CATEGORIES:Choral,Choral Evensong,Music
ATTACH;FMTTYPE=image/jpeg:https://cathedralartsdallas.org/wp-content/uploads/2015/06/STMfront195x1279.jpg
ORGANIZER;CN="St. Matthew's Cathedral Arts":MAILTO:info@cathedralartsdallas.org
END:VEVENT
BEGIN:VEVENT
DTSTART;TZID=UTC:20201213T160000
DTEND;TZID=UTC:20201213T160000
DTSTAMP:20260424T033856
CREATED:20201011T035220Z
LAST-MODIFIED:20201011T035330Z
UID:4521-1607875200-1607875200@cathedralartsdallas.org
SUMMARY:A Festival Service of Lessons and Carols for Christmas
DESCRIPTION:The Choir of St. Matthew’s Cathedral and selected readers unfold the Christmas narrative with familiar choral settings and scriptural accounts\, according to a beloved pattern established in 1918 by King’s College Chapel\, Cambridge. The service includes carols by Ledger\, Goldschmidt\, Wishart\, Willcocks\, Spicer\, Mathias\, Darke and Rutter. \nPrelude begins at 3:30 pm.\nAll are welcome.\nInvite a friend – It may be the best gift you can give them!
URL:https://cathedralartsdallas.org/event/a-festival-of-lessons-and-carols-12-13020/
LOCATION:Zoom Video Platform\, TX\, United States
CATEGORIES:Choral,Music
ATTACH;FMTTYPE=image/jpeg:https://cathedralartsdallas.org/wp-content/uploads/2018/10/holly-and-snow2-e1539356764508.jpg
ORGANIZER;CN="St. Matthew's Cathedral Arts":MAILTO:info@cathedralartsdallas.org
END:VEVENT
BEGIN:VEVENT
DTSTART;TZID=UTC:20201018T160000
DTEND;TZID=UTC:20201018T160000
DTSTAMP:20260424T033856
CREATED:20200917T231634Z
LAST-MODIFIED:20201001T212404Z
UID:4427-1603036800-1603036800@cathedralartsdallas.org
SUMMARY:Evensong on the Lawn
DESCRIPTION:CHORAL EVENSONG ON THE LAWN\nsung by the\nCathedral Arts Choral Artists\nwith\nThe Very Reverend Robert Price\nDean of the Cathedral\nSunday\, October 18 at 4:00 pm\nLawn of St. Matthew’s Episcopal Cathedral\nPlease bring a lawn chair.\nSocial distancing required and face coverings highly recommended.\nMusic of Arthur Baynon\, Maggie Burk\, G. H. Knight\,\nThomas Tallis and Giovanni Pierluigi da Palestrina.\nThe Anglican service of Evensong is an ancient tradition\, dating to the 1549 Book of Common Prayer. The music\, the sung and spoken words and the beautiful surroundings will bring you into a world of quiet reflection before a busy week begins\, away from the endless distractions of modern life. Bring a friend! The entire community is always welcome. \nEvent flyer here. \nMore about the Evensong tradition at St. Matthew’s Cathedral Arts\nWatch an Evensong Service
URL:https://cathedralartsdallas.org/event/evensong-on-the-lawn-10-18-20/
LOCATION:Lawn of St. Matthew’s Cathedral\, 5100 Ross Avenue at North Henderson\, Dallas\, TX\, 75206\, United States
CATEGORIES:Choral,Choral Evensong,Music
ATTACH;FMTTYPE=image/jpeg:https://cathedralartsdallas.org/wp-content/uploads/2020/09/evensong5crop.jpg
ORGANIZER;CN="St. Matthew's Cathedral Arts":MAILTO:info@cathedralartsdallas.org
END:VEVENT
BEGIN:VEVENT
DTSTART;TZID=UTC:20200419T160000
DTEND;TZID=UTC:20200419T160000
DTSTAMP:20260424T033856
CREATED:20200111T051253Z
LAST-MODIFIED:20200324T043613Z
UID:4046-1587312000-1587312000@cathedralartsdallas.org
SUMMARY:Choral Evensong CANCELLED
DESCRIPTION:The Anglican service of Evensong is an ancient tradition\, dating to the 1549 Book of Common Prayer. In keeping with this season’s theme\, every Evensong will include the works of one or more women composers. The music\, the sung and spoken words and the beautiful surroundings will bring you into a world of quiet reflection before a busy week begins\, away from the endless distractions of modern life. Bring a friend! The entire community is welcome. \nEvent flyer TBD. \nMore about the Evensong tradition at St. Matthew’s Cathedral Arts
URL:https://cathedralartsdallas.org/event/choral-evensong-4-19-20/
LOCATION:Zoom Video Platform\, TX\, United States
CATEGORIES:Choral,Choral Evensong,Music
ATTACH;FMTTYPE=image/jpeg:https://cathedralartsdallas.org/wp-content/uploads/2018/03/evensongimage-e1535409344911.jpg
ORGANIZER;CN="St. Matthew's Cathedral Arts":MAILTO:info@cathedralartsdallas.org
END:VEVENT
BEGIN:VEVENT
DTSTART;TZID=UTC:20200315T160000
DTEND;TZID=UTC:20200315T160000
DTSTAMP:20260424T033856
CREATED:20200110T062200Z
LAST-MODIFIED:20200323T224649Z
UID:4036-1584288000-1584288000@cathedralartsdallas.org
SUMMARY:Choral Evensong with the Cathedral Arts Choral Artists CANCELLED
DESCRIPTION:THIS SERVICE OF CHORAL EVENSONG HAS BEEN CANCELLED DUE TO CURRENT HEALTH SECURITY CONCERNS\nmusic of\nOla Gjeilo\nMaggie Burk\nPeter Aston\nJudith Weir\nThe Anglican service of Evensong is an ancient tradition\, dating to the 1549 Book of Common Prayer. In keeping with this season’s theme\, each Evensong includes the works of one or more women composers. The music\, the sung and spoken words and the beautiful surroundings will bring you into a world of quiet reflection before a busy week begins\, away from the endless distractions of modern life. Bring a friend! The entire community is welcome. \nEvent flyer here. \nMore about the Evensong tradition at St. Matthew’s Cathedral Arts
URL:https://cathedralartsdallas.org/event/choral-evensong-3-15-20/
LOCATION:Zoom Video Platform\, TX\, United States
CATEGORIES:Choral,Choral Evensong,Music
ATTACH;FMTTYPE=image/jpeg:https://cathedralartsdallas.org/wp-content/uploads/2018/02/Carol-Lander-Evensong-crop-1024x1018.jpg
ORGANIZER;CN="St. Matthew's Cathedral Arts":MAILTO:info@cathedralartsdallas.org
END:VEVENT
BEGIN:VEVENT
DTSTART;TZID=UTC:20200216T160000
DTEND;TZID=UTC:20200216T160000
DTSTAMP:20260424T033856
CREATED:20200110T061250Z
LAST-MODIFIED:20200214T170132Z
UID:4032-1581868800-1581868800@cathedralartsdallas.org
SUMMARY:Choral Evensong
DESCRIPTION:Sung by the Choir of St. Matthew’s Episcopal Cathedral\nmusical offerings of\nHerbert Howells\, J.S. Bach\, Healey Willan\,\nHerbert Sumsion\, Margaret Harper\,\nKeith Franks\, George Dyson\,\nFelix Mendelssohn and Clara Schumann\nGuest Organist\nMargaret Harper\, DMA\nAssociate Director of Music and Organist\nSt. Michael and All Angels Episcopal Church\, Dallas\nThe Anglican service of Evensong is an ancient tradition\, dating to the 1549 Book of Common Prayer. In keeping with this season’s theme\, every Evensong will include the works of one or more women composers. The music\, the sung and spoken words and the beautiful surroundings will bring you into a world of quiet reflection before a busy week begins\, away from the endless distractions of modern life. Bring a friend! The entire community is welcome. \nEvent flyer here. \nMore about the Evensong tradition at St. Matthew’s Cathedral Arts\nWatch a recent Evensong Service
URL:https://cathedralartsdallas.org/event/choral-evensong-2-16-20/
LOCATION:Zoom Video Platform\, TX\, United States
CATEGORIES:Choral,Choral Evensong,Music
ATTACH;FMTTYPE=image/jpeg:https://cathedralartsdallas.org/wp-content/uploads/2018/02/Carol-Lander-Evensong-crop-1024x1018.jpg
ORGANIZER;CN="St. Matthew's Cathedral Arts":MAILTO:info@cathedralartsdallas.org
END:VEVENT
BEGIN:VEVENT
DTSTART;TZID=UTC:20200119T160000
DTEND;TZID=UTC:20200119T160000
DTSTAMP:20260424T033856
CREATED:20191203T220652Z
LAST-MODIFIED:20200110T191826Z
UID:3932-1579449600-1579449600@cathedralartsdallas.org
SUMMARY:Choral Evensong: Music for Treble Voices
DESCRIPTION:Sung by the Treble Voices of the\nCathedral Arts Choral Artists\nMonica Awbrey\, conductor\nMusic of\nHildegard of Bingen\nMaggie Burk\nSarah MacDonald\nCecilia McDowall\nThe Anglican service of Evensong is an ancient tradition\, dating to the 1549 Book of Common Prayer. In keeping with this season’s theme\, every Evensong will include the works of one or more women composers. The music\, the sung and spoken words and the beautiful surroundings will bring you into a world of quiet reflection before a busy week begins\, away from the endless distractions of modern life. Bring a friend! The entire community is welcome. \nEvent flyer here. \nMore about the Evensong tradition at St. Matthew’s Cathedral Arts\nWatch a recent Evensong Service
URL:https://cathedralartsdallas.org/event/choral-evensong-1-19-20/
LOCATION:Zoom Video Platform\, TX\, United States
CATEGORIES:Choral,Choral Evensong,Music
ATTACH;FMTTYPE=image/jpeg:https://cathedralartsdallas.org/wp-content/uploads/2018/02/Carol-Lander-Evensong-crop-1024x1018.jpg
ORGANIZER;CN="St. Matthew's Cathedral Arts":MAILTO:info@cathedralartsdallas.org
END:VEVENT
BEGIN:VEVENT
DTSTART;TZID=UTC:20191020T160000
DTEND;TZID=UTC:20191020T160000
DTSTAMP:20260424T033856
CREATED:20190920T055353Z
LAST-MODIFIED:20190920T055353Z
UID:3677-1571587200-1571587200@cathedralartsdallas.org
SUMMARY:Choral Evensong
DESCRIPTION:Cathedral Arts Choral Artists\nMusic of Caroline Shaw\, Bernard Rose\nand Herbert Sumsion\n \nThe Anglican service of Evensong is an ancient tradition\, dating to the 1549 Book of Common Prayer. In keeping with this season’s theme\, every Evensong will include the works of one or more women composers. The music\, the sung and spoken words and the beautiful surroundings will bring you into a world of quiet reflection before a busy week begins\, away from the endless distractions of modern life. Bring a friend! The entire community is welcome. \nMore about the Evensong tradition at St. Matthew’s Cathedral Arts\nWatch a recent Evensong Service
URL:https://cathedralartsdallas.org/event/choral-evensong-10-20-19/
LOCATION:Zoom Video Platform\, TX\, United States
CATEGORIES:Choral,Choral Evensong,Music
ATTACH;FMTTYPE=image/jpeg:https://cathedralartsdallas.org/wp-content/uploads/2018/02/Carol-Lander-Evensong-crop-1024x1018.jpg
ORGANIZER;CN="St. Matthew's Cathedral Arts":MAILTO:info@cathedralartsdallas.org
END:VEVENT
BEGIN:VEVENT
DTSTART;TZID=UTC:20190915T160000
DTEND;TZID=UTC:20190915T160000
DTSTAMP:20260424T033856
CREATED:20190605T202144Z
LAST-MODIFIED:20190903T160336Z
UID:3552-1568563200-1568563200@cathedralartsdallas.org
SUMMARY:Choral Evensong
DESCRIPTION:Cathedral Arts Choral Artists\nMusic of Adrian Batten\, Humphrey Clucas\,\nCecilia McDowall and H. Balfour Gardiner  \nOrgan Recital at 3:30 pm\nDamin Spritzer\, DMA\, Cathedral Arts Artist-in-Residence\nMusic of J.S. Bach\, Alec Rowley and Mary Howe \nReception follows in the Justus Sundermann Gallery \n  \nThe Anglican service of Evensong is an ancient tradition\, dating to the 1549 Book of Common Prayer. In keeping with this season’s theme\, every Evensong will include the works of one or more women composers. The music\, the sung and spoken words and the beautiful surroundings will bring you into a world of quiet reflection before a busy week begins\, away from the endless distractions of modern life. Bring a friend! The entire community is welcome. \nMore about the Evensong tradition at St. Matthew’s Cathedral Arts\nWatch a recent Evensong Service
URL:https://cathedralartsdallas.org/event/choral-evensong-9-15-2019/
LOCATION:Zoom Video Platform\, TX\, United States
CATEGORIES:Choral,Choral Evensong,Music
ATTACH;FMTTYPE=image/jpeg:https://cathedralartsdallas.org/wp-content/uploads/2019/06/evensong5crop.jpg
ORGANIZER;CN="St. Matthew's Cathedral Arts":MAILTO:info@cathedralartsdallas.org
END:VEVENT
BEGIN:VEVENT
DTSTART;TZID=UTC:20190519T160000
DTEND;TZID=UTC:20190519T160000
DTSTAMP:20260424T033856
CREATED:20190422T185554Z
LAST-MODIFIED:20190430T202304Z
UID:3495-1558281600-1558281600@cathedralartsdallas.org
SUMMARY:Choral Evensong
DESCRIPTION:Cathedral Arts Choral Artists \nReception follows in the Justus Sundermann Gallery \nThe Anglican service of Evensong dates to the 1549 Book of Common Prayer. Evensong participants are invited into a space of quiet reflection through the music\, scripture\, and prayers that have shaped Christian lives for hundreds of years.\nBring a friend! All are welcome! \nMore about the Evensong tradition at St. Matthew’s Cathedral Arts here.\nWatch a recent Evensong Service here.
URL:https://cathedralartsdallas.org/event/choral-evensong-5-19-2019/
LOCATION:Zoom Video Platform\, TX\, United States
CATEGORIES:Choral,Choral Evensong,Music
ATTACH;FMTTYPE=image/jpeg:https://cathedralartsdallas.org/wp-content/uploads/2018/03/evensongimage-e1535409344911.jpg
ORGANIZER;CN="St. Matthew's Cathedral Arts":MAILTO:info@cathedralartsdallas.org
END:VEVENT
BEGIN:VEVENT
DTSTART;TZID=UTC:20190414T160000
DTEND;TZID=UTC:20190414T160000
DTSTAMP:20260424T033856
CREATED:20190325T170234Z
LAST-MODIFIED:20190414T224455Z
UID:3303-1555257600-1555257600@cathedralartsdallas.org
SUMMARY:Choral Evensong
DESCRIPTION:Cathedral Arts Choral Artists\nMusic for Men’s Voices\nAbout Evensong:\nDrawn from the 17th century\, participants are invited to enter into a sacred space of quiet reflection through music\, scripture\, and prayers that have shaped Christian lives for hundreds of years.\nBring a friend! All are welcome!\n\nMore about the Evensong tradition at St. Matthew’s Cathedral Arts here.\nWatch a recent Evensong Service here.
URL:https://cathedralartsdallas.org/event/choral-evensong-4-14-2019/
LOCATION:Zoom Video Platform\, TX\, United States
CATEGORIES:Choral,Choral Evensong,Music
ATTACH;FMTTYPE=image/jpeg:https://cathedralartsdallas.org/wp-content/uploads/2018/03/evensongimage-e1535409344911.jpg
ORGANIZER;CN="St. Matthew's Cathedral Arts":MAILTO:info@cathedralartsdallas.org
END:VEVENT
BEGIN:VEVENT
DTSTART;TZID=UTC:20190324T160000
DTEND;TZID=UTC:20190324T160000
DTSTAMP:20260424T033856
CREATED:20190218T054727Z
LAST-MODIFIED:20190310T060718Z
UID:3103-1553443200-1553443200@cathedralartsdallas.org
SUMMARY:Choral Evensong
DESCRIPTION:Cathedral Arts Choral Artists\nReception follows immediately in the Justus Sundermann Gallery\n\n\n\nAbout Evensong:\nDrawn from the 17th century\, participants are invited to enter into a sacred space of quiet reflection through music\, scripture\, and prayers that have shaped Christian lives for hundreds of years.\nBring a friend! All are welcome!\n\n  \nMore about the Evensong tradition at St. Matthew’s Cathedral Arts here.\nWatch a YouTube video of a recent Evensong Service (September 16\, 2018) here.
URL:https://cathedralartsdallas.org/event/choral-evensong-3-24-2019/
LOCATION:Zoom Video Platform\, TX\, United States
CATEGORIES:Choral,Choral Evensong,Music
ATTACH;FMTTYPE=image/jpeg:https://cathedralartsdallas.org/wp-content/uploads/2018/03/evensongimage-e1535409344911.jpg
ORGANIZER;CN="St. Matthew's Cathedral Arts":MAILTO:info@cathedralartsdallas.org
END:VEVENT
BEGIN:VEVENT
DTSTART;TZID=UTC:20190317T160000
DTEND;TZID=UTC:20190317T160000
DTSTAMP:20260424T033856
CREATED:20190313T042912Z
LAST-MODIFIED:20190313T043521Z
UID:3127-1552838400-1552838400@cathedralartsdallas.org
SUMMARY:Choir of St. Thomas Fifth Avenue at Church of the Incarnation
DESCRIPTION:The Saint Thomas Choir of Men and Boys is considered by many to be the leading ensemble in the Anglican choral tradition in the United States.\nPresented by the Music at Incarnation Classical Concert Series\nTickets $10-$20\n\n\nChurch of the Incarnation\n3966 McKinney Avenue\nDallas\n\n\nInformation and Tickets HERE.
URL:https://cathedralartsdallas.org/event/choir-of-st-thomas-fifth-avenue/
LOCATION:Church of the Incarnation\, 3966 McKinney Avenue\, Dallas\, TX\, 75204\, United States
CATEGORIES:Choral,Music
ATTACH;FMTTYPE=image/jpeg:https://cathedralartsdallas.org/wp-content/uploads/2019/03/Choir-of-St-Thomas-Fifth-Avenue.jpg
END:VEVENT
BEGIN:VEVENT
DTSTART;TZID=UTC:20190217T160000
DTEND;TZID=UTC:20190217T170000
DTSTAMP:20260424T033856
CREATED:20190126T044102Z
LAST-MODIFIED:20190126T044102Z
UID:3020-1550419200-1550422800@cathedralartsdallas.org
SUMMARY:Choral Evensong
DESCRIPTION:Cathedral Arts Choral Artists\nReception follows immediately in the Justus Sundermann Gallery\n\n\n\nAbout Evensong:\nDrawn from the 17th century\, participants are invited to enter into a sacred space of quiet reflection through music\, scripture\, and prayers that have shaped Christian lives for hundreds of years.\nBring a friend! All are welcome!\n\n  \nMore about the Evensong tradition at St. Matthew’s Cathedral Arts here.\nWatch a YouTube video of a recent Evensong Service (September 16\, 2018) here.
URL:https://cathedralartsdallas.org/event/choral-evensong-2-17-2019/
LOCATION:Zoom Video Platform\, TX\, United States
CATEGORIES:Choral,Choral Evensong,Music
ATTACH;FMTTYPE=image/jpeg:https://cathedralartsdallas.org/wp-content/uploads/2018/03/evensongimage-e1535409344911.jpg
ORGANIZER;CN="St. Matthew's Cathedral Arts":MAILTO:info@cathedralartsdallas.org
END:VEVENT
BEGIN:VEVENT
DTSTART;TZID=UTC:20190120T160000
DTEND;TZID=UTC:20190120T170000
DTSTAMP:20260424T033856
CREATED:20181104T090315Z
LAST-MODIFIED:20190114T231913Z
UID:2903-1548000000-1548003600@cathedralartsdallas.org
SUMMARY:Choral Evensong
DESCRIPTION:Cathedral Arts Choral Artists\nMusic for Treble Voices\n\nReception follows immediately in the Justus Sundermann Gallery\n\n\n\nAbout Evensong:\nDrawn from the 17th century\, participants are invited to enter into a sacred space of quiet reflection through music\, scripture\, and prayers that have shaped Christian lives for hundreds of years.\nBring a friend! All are welcome!\n\n  \nMore about the Evensong tradition at St. Matthew’s Cathedral Arts here.\nWatch a YouTube video of a recent Evensong Service (September 16\, 2018) here.
URL:https://cathedralartsdallas.org/event/choral-evensong-1-20-2019/
LOCATION:Zoom Video Platform\, TX\, United States
CATEGORIES:Choral,Choral Evensong,Music
ATTACH;FMTTYPE=image/jpeg:https://cathedralartsdallas.org/wp-content/uploads/2018/03/evensongimage-e1535409344911.jpg
ORGANIZER;CN="St. Matthew's Cathedral Arts":MAILTO:info@cathedralartsdallas.org
END:VEVENT
BEGIN:VEVENT
DTSTART;TZID=UTC:20181216T160000
DTEND;TZID=UTC:20181216T173000
DTSTAMP:20260424T033856
CREATED:20181012T043719Z
LAST-MODIFIED:20181212T175137Z
UID:2872-1544976000-1544981400@cathedralartsdallas.org
SUMMARY:A Festival of Nine Lessons and Carols
DESCRIPTION:The Cathedral Arts Choral Artists and selected readers unfold the Christmas narrative with familiar choral settings and scriptural accounts\, according to a beloved pattern established in 1918 by King’s College Chapel\, Cambridge. The service includes carols by Ledger\, Goldschmidt\, Wishart\, Willcocks\, Spicer\, Mathias\, Darke and Rutter. \nPrelude begins at 3:30 pm.\nReception following in Justus Sundermann Gallery. \nAll are welcome.\nInvite a friend – It may be the best gift you can give them!
URL:https://cathedralartsdallas.org/event/festival-lessons-carols-2018/
LOCATION:Zoom Video Platform\, TX\, United States
CATEGORIES:Choral,Music
ATTACH;FMTTYPE=image/jpeg:https://cathedralartsdallas.org/wp-content/uploads/2018/10/holly-and-snow2-e1539356764508.jpg
ORGANIZER;CN="St. Matthew's Cathedral Arts":MAILTO:info@cathedralartsdallas.org
END:VEVENT
BEGIN:VEVENT
DTSTART;TZID=UTC:20181021T160000
DTEND;TZID=UTC:20181021T170000
DTSTAMP:20260424T033856
CREATED:20180909T042609Z
LAST-MODIFIED:20181015T212535Z
UID:2723-1540137600-1540141200@cathedralartsdallas.org
SUMMARY:Choral Evensong
DESCRIPTION:Cathedral Arts Choral Artists\nMusic by Rachmaninoff\, Rose\, and Noble\n\nReception follows immediately in the Justus Sundermann Gallery\n\n\n\nAbout Evensong:\nDrawn from the 17th century\, participants are invited to enter into a sacred space of quiet reflection through music\, scripture\, and prayers that have shaped Christian lives for hundreds of years.\nBring a friend! All are welcome!\n\n  \nMore about the Evensong tradition at St. Matthew’s Cathedral Arts here.\nWatch a YouTube video of the most recent Evensong Service (September 16\, 2018) here.
URL:https://cathedralartsdallas.org/event/choral-evensong-10-21-2018/
LOCATION:Zoom Video Platform\, TX\, United States
CATEGORIES:Choral,Choral Evensong,Music
ATTACH;FMTTYPE=image/jpeg:https://cathedralartsdallas.org/wp-content/uploads/2018/03/evensongimage-e1535409344911.jpg
ORGANIZER;CN="St. Matthew's Cathedral Arts":MAILTO:info@cathedralartsdallas.org
END:VEVENT
BEGIN:VEVENT
DTSTART;TZID=UTC:20180916T153000
DTEND;TZID=UTC:20180916T170000
DTSTAMP:20260424T033856
CREATED:20180806T230518Z
LAST-MODIFIED:20180912T032042Z
UID:2648-1537111800-1537117200@cathedralartsdallas.org
SUMMARY:Choral Evensong
DESCRIPTION:Cathedral Arts Choral Artists\nMusic by Baynon\, Rose\, Brewer and Howells\n\n\nOrgan Recital at 3:30pm\nDamin Spritzer\, Cathedral Arts Artist-in-Residence\nMusic by Gilbert\, Bach\, Rowley and Willan\nReception follows immediately in the Justus Sundermann Gallery\n\n\n\nAbout Evensong:\nDrawn from the 17th century\, participants are invited to enter into a sacred space of quiet reflection through music\, scripture\, and prayers that have shaped Christian lives for hundreds of years.\nBring a friend! All are welcome!\nMore about the Evensong tradition at St. Matthew’s Cathedral Arts here.\nYouTube video from a recent Evensong Service (May 20\, 2018) at St. Matthew’s here.
URL:https://cathedralartsdallas.org/event/choral-evensong-9-16-2018/
LOCATION:Zoom Video Platform\, TX\, United States
CATEGORIES:Choral,Choral Evensong,Music
ATTACH;FMTTYPE=image/jpeg:https://cathedralartsdallas.org/wp-content/uploads/2018/03/evensongimage-e1535409344911.jpg
ORGANIZER;CN="St. Matthew's Cathedral Arts":MAILTO:info@cathedralartsdallas.org
END:VEVENT
BEGIN:VEVENT
DTSTART;TZID=UTC:20171217T160000
DTEND;TZID=UTC:20171217T170000
DTSTAMP:20260424T033856
CREATED:20150917T004835Z
LAST-MODIFIED:20171201T023540Z
UID:447-1513526400-1513530000@cathedralartsdallas.org
SUMMARY:A Festival of Nine Lessons and Carols
DESCRIPTION:The Cathedral Arts Choral Artists and selected readers unfold the Christmas narrative with familiar choral settings and scriptural accounts\, according to a beloved pattern established in 1918 by King’s College Chapel\, Cambridge. The service includes music of Cleobury\, Caracciolo\, Ledger\, Warlock\, Gardner\, Davies\, and Howells. \nOrgan Prelude at 4:00 pm by Keith Franks. \nAll are welcome.\nInvite a friend – It may be the best gift you can give them!
URL:https://cathedralartsdallas.org/event/festival-nine-lessons-carols/
LOCATION:Zoom Video Platform\, TX\, United States
CATEGORIES:Choral,Music
ATTACH;FMTTYPE=image/jpeg:https://cathedralartsdallas.org/wp-content/uploads/2015/09/Event-9lessons.jpg
ORGANIZER;CN="St. Matthew's Cathedral Arts":MAILTO:info@cathedralartsdallas.org
END:VEVENT
END:VCALENDAR