BEGIN:VCALENDAR
VERSION:2.0
PRODID:-//St. Matthew&#039;s Cathedral Arts - ECPv6.15.20//NONSGML v1.0//EN
CALSCALE:GREGORIAN
METHOD:PUBLISH
X-ORIGINAL-URL:https://cathedralartsdallas.org
X-WR-CALDESC:Events for St. Matthew&#039;s Cathedral Arts
REFRESH-INTERVAL;VALUE=DURATION:PT1H
X-Robots-Tag:noindex
X-PUBLISHED-TTL:PT1H
BEGIN:VTIMEZONE
TZID:UTC
BEGIN:STANDARD
TZOFFSETFROM:+0000
TZOFFSETTO:+0000
TZNAME:UTC
DTSTART:20230101T000000
END:STANDARD
END:VTIMEZONE
BEGIN:VEVENT
DTSTART;TZID=UTC:20240414T150000
DTEND;TZID=UTC:20240414T150000
DTSTAMP:20260423T231759
CREATED:20231210T215318Z
LAST-MODIFIED:20240327T220936Z
UID:6287-1713106800-1713106800@cathedralartsdallas.org
SUMMARY:A Concert for Alessandra Comini
DESCRIPTION:A Concert and Reception\nin Honor of Dr. Alessandra Comini\nSMU Distinguished Professor Emerita of Art History\nFeaturing Music from her Mystery Novels\nwith Cathedral Arts Artists-in-Residence\nCourtney Maina\, soprano\nChristopher A. Leach\, tenor\nMikhail Berestnev\, piano\nMary Dibbern\, piano\nmusic by Beethoven\, Brahms\, Schubert\, Schönberg\, Mahler\, Mendelssohn and Schumann \nSUNDAY\, APRIL 14 at 3:00 PM\nGREAT HALL\nFREE PARKING AND ADMISSION\nEvent flyer HERE.\n\nAbout Alessandra Comini\nAlessandra Comini  is an American art historian and curator. She is University Distinguished Professor of Art History Emerita at Southern Methodist University. Proficient in music and languages as well as art history\, Comini brought an interdisciplinary approach to her study of the arts in Austria and Germany at the turn of the 20th century\, an approach particularly suited to the integrated art forms of fin-de-siècle Vienna. \nEarly and personal life\nAlessandra Comini was born the daughter of Megan Laird and Raiberto Comini in Winona\, Minnesota. Her earliest years were spent in Barcelona\, Milan\, and Dallas. Comini received her B.A. from Barnard College (1956)\, her M.A\, from the University of California\, Berkeley (1964)\, and her Ph.D. from Columbia University (1969). Her dissertation on the topic of Egon Schiele’s portraiture was written under Theodore Reff. \nIn 1974\, she began her decades of collaboration with art historian Eleanor Tufts at Southern Methodist University. \nCareer\nWhile teaching at Columbia between 1965 and 1974\, Comini became one of the founders of the Women’s Caucus for Art in 1972. She taught at Southern Methodist University from 1974 until 2005. And she guest taught at the University of California\, Berkeley (1967) and Yale University (1973). Voted outstanding professor sixteen times by her students\, Comini served as the Alfred Hodder Resident Humanist at Princeton University (1972–1973) and was named Distinguished Visiting Lecturer at Oxford University’s European Humanities Research Centre (1996). \nCelebrated for her witty\, erudite\, and compelling public lectures\, Comini has been in demand as a guest speaker nationally and internationally. As an interdisciplinary speaker\, Comini lectured repeatedly at the Leipzig Gewandhaus symposia\, The Santa Fe Opera\, and for the Indianapolis and Dallas Symphony Orchestras. \nIn 1990 Comini was awarded the Grand Decoration of Honour for Services to the Republic of Austria in recognition of her contributions to Germanic culture. \nIn 2014 Comini turned to fiction writing and has published nine art history murder mystery novels since in the Megan Crespi Series. \nThe Neue Galerie Museum for German and Austrian Art\, New York\, commissioned Comini to curate its blockbuster exhibition Egon Schiele’s Portraits (2014–15). \nHonors and Awards\nComini’s book Egon Schiele’s Portraits (1974) was nominated for a National Book Award (1975) and received the College Art Association’s Charles Rufus Morey Book Award (1976). Comini’s book The Changing Image of Beethoven: A Study in Mythmaking (1987) was a pioneer application of reception history to imagery. \n\n1995 – Women’s Caucus for Art\, Lifetime Achievement Award\n1996 – United Methodist Church Scholar/Teacher of the Year Award\n2002 – Texas Hall of Fame nomination\n2005 – Comini Lecture Series established\, Southern Methodist University\n2010 – Medal of Honor\, Veteran Feminists of America\n2011 – Distinguished Alumna Award\, Barnard College\n2012 – International Symposium\, Neulengbach\, Austria\, “Alessandra Comini und Neulengbach”\n2018 – Golden Honor of Merit for Services to the State of Lower Austria\n2019 – Alessandra Comini International Fellowship for Study Abroad\, founded by Meadows School of the Arts\, Southern Methodist University
URL:https://cathedralartsdallas.org/event/comini-celebration-4-14-24/
LOCATION:Great Hall\, St. Matthew’s Cathedral\, 5100 Ross Avenue at North Henderson\, Dallas\, TX\, 75206\, United States
CATEGORIES:Community,Food,Music,SMU Meadows School,Special Event
ATTACH;FMTTYPE=image/jpeg:https://cathedralartsdallas.org/wp-content/uploads/2023/12/Comini-90th-Collage-website.jpg
ORGANIZER;CN="St. Matthew's Cathedral Arts":MAILTO:info@cathedralartsdallas.org
END:VEVENT
END:VCALENDAR