BEGIN:VCALENDAR
VERSION:2.0
PRODID:-//St. Matthew&#039;s Cathedral Arts - ECPv6.15.20//NONSGML v1.0//EN
CALSCALE:GREGORIAN
METHOD:PUBLISH
X-ORIGINAL-URL:https://cathedralartsdallas.org
X-WR-CALDESC:Events for St. Matthew&#039;s Cathedral Arts
REFRESH-INTERVAL;VALUE=DURATION:PT1H
X-Robots-Tag:noindex
X-PUBLISHED-TTL:PT1H
BEGIN:VTIMEZONE
TZID:UTC
BEGIN:STANDARD
TZOFFSETFROM:+0000
TZOFFSETTO:+0000
TZNAME:UTC
DTSTART:20210101T000000
END:STANDARD
END:VTIMEZONE
BEGIN:VEVENT
DTSTART;TZID=UTC:20220506T190000
DTEND;TZID=UTC:20220506T190000
DTSTAMP:20260424T105434
CREATED:20210813T202310Z
LAST-MODIFIED:20220503T025643Z
UID:4829-1651863600-1651863600@cathedralartsdallas.org
SUMMARY:Cathedral Arts Tenth Anniversary Benefit Gala
DESCRIPTION:The popular annual Cathedral Arts Benefit Gala returns on May 6!\nTHE GALA IS SOLD OUT. TICKET SALES HAVE ENDED.\nVIP Tickets $100 / Regular Tickets $75\nGroup tables available for 6-8 guests.\nVIP tickets include a pre-event champagne reception at 6:00 pm with participating artists\, early admission to the silent auction and two complimentary additional glasses of wine served at your table.\nThe Tenth Anniversary Benefit Gala promises to be one of our finest evenings! On Friday\, May 6 at 7:00\, Cathedral Arts patrons will gather in the Great Hall to enjoy a fabulous dinner with wines and champagne\, a unique silent auction\, dancing\, and entertainment from renowned vocalist and pianist Melani Skybell and Dallas Symphony principal bassist Nicolas Tsolainos\, hosted by our favorite Masters of Ceremonies\, Carl Youngberg and Steve Crews!\nOutstanding Justus Sundermann Gallery artists from the past eight seasons have generously contributed original artworks to be auctioned to the highest bidder. Preview a gallery of some of the works HERE! Modest reserve prices ensure that everyone can participate! Reserved tables and single Gala tickets are available online now and in person at the cathedral. Volunteers are needed to help make this a successful and unforgettable event!\nProceeds from this signature event support the free public arts and educational events of St. Matthew’s Cathedral Arts.\nFRIDAY\, MAY 6 at 7:00 PM\nGREAT HALL\nSeating is limited! Only twenty tickets remain!\nNote to table hosts: you may reserve tables of 6\, 7 or 8 seats.\nTo reserve or purchase tickets:\nFill out a reservation form HERE and drop it at\nthe Cathedral Arts table in the Great Hall foyer.\nReserve by email at info@cathedralartsdallas.org.\nPurchase tickets online HERE.
URL:https://cathedralartsdallas.org/event/cathedral-arts-benefit-gala-5-6-22/
CATEGORIES:Gala,Special Event
ATTACH;FMTTYPE=image/jpeg:https://cathedralartsdallas.org/wp-content/uploads/2021/11/2021-22-Gala-Logo-revised.jpg
END:VEVENT
END:VCALENDAR