BEGIN:VCALENDAR
VERSION:2.0
PRODID:-//St. Matthew&#039;s Cathedral Arts - ECPv6.15.20//NONSGML v1.0//EN
CALSCALE:GREGORIAN
METHOD:PUBLISH
X-ORIGINAL-URL:https://cathedralartsdallas.org
X-WR-CALDESC:Events for St. Matthew&#039;s Cathedral Arts
REFRESH-INTERVAL;VALUE=DURATION:PT1H
X-Robots-Tag:noindex
X-PUBLISHED-TTL:PT1H
BEGIN:VTIMEZONE
TZID:UTC
BEGIN:STANDARD
TZOFFSETFROM:+0000
TZOFFSETTO:+0000
TZNAME:UTC
DTSTART:20200101T000000
END:STANDARD
END:VTIMEZONE
BEGIN:VEVENT
DTSTART;TZID=UTC:20250105T180000
DTEND;TZID=UTC:20250105T180000
DTSTAMP:20260424T093730
CREATED:20240619T162242Z
LAST-MODIFIED:20241120T150811Z
UID:6575-1736100000-1736100000@cathedralartsdallas.org
SUMMARY:Special Event: A TRIO OF CRÈCHES
DESCRIPTION:A Star\, a Son\, a Song is Born!\nA Chorus of Crèche Celebrations\n\nA special fundraising event for The Feast of the Epiphany\nin celebration of the magnificent crèches\ncreated for St. Matthew’s Cathedral by Tommy Bourgeois\nWelcome and Introductions by The Very Rev. Robert Price\,\nDean of St. Matthew’s Cathedral\nMeditations with The Rev. Canon Dr. Victor Lee Austin\,\nTheologian-in-Residence for the Episcopal Diocese of Dallas\nMusic with Alison Read\, harp\, and Vilma Peguero\, cello\nMince Pies\, Refreshments\, Sherry and Punch\nSUNDAY\, JANUARY 5 at 6:00 PM\nCATHEDRAL NAVE REAR\nLIMITED SEATING / TICKETS $25.00\nBY ADVANCE RESERVATION ONLY!\nEMAIL WENDY HACKEMACK: WHACKEMACK@CROINC.COM\nEvent flyer HERE.
URL:https://cathedralartsdallas.org/event/special-event-a-trio-of-creches/
LOCATION:St. Matthew’s Cathedral\, 5100 Ross Avenue at North Henderson\, Dallas\, TX\, 75206\, United States
CATEGORIES:Fundraising,Lecture,Music,Special Event
ATTACH;FMTTYPE=image/jpeg:https://cathedralartsdallas.org/wp-content/uploads/2024/09/L1047622-copy-scaled.jpg
ORGANIZER;CN="St. Matthew's Cathedral Arts":MAILTO:info@cathedralartsdallas.org
END:VEVENT
BEGIN:VEVENT
DTSTART;TZID=UTC:20240106T190000
DTEND;TZID=UTC:20240106T190000
DTSTAMP:20260424T093730
CREATED:20230924T194901Z
LAST-MODIFIED:20240101T224448Z
UID:6152-1704567600-1704567600@cathedralartsdallas.org
SUMMARY:Special Event: A Trio of Crèches - SOLD OUT
DESCRIPTION:A Star\, A Son\, A Song is Born!\nA Chorus of Crèche Celebrations\n\nA special fundraising event for The Feast of the Epiphany\nin celebration of the magnificent crèches\ncreated for St. Matthew’s Cathedral by Tommy Bourgeois\nMeditations with Dr. Christopher Anderson\,\nSMU Perkins School of Theology\nMusic with Alison Read\, harp\, and Vilma Peguero\, cello\nMince Pies\, Sherry and Punch\nSUNDAY\, JANUARY 6 at 7:00 PM\nCATHEDRAL NAVE REAR\nLIMITED SEATING / TICKETS $25.00\nBY ADVANCE RESERVATION ONLY\nEMAIL WENDY HACKEMACK: WHACKEMACK@CROINC.COM\n\nEvent flyer HERE.
URL:https://cathedralartsdallas.org/event/a-trio-of-creches/
LOCATION:St. Matthew’s Cathedral\, 5100 Ross Avenue at North Henderson\, Dallas\, TX\, 75206\, United States
CATEGORIES:Fundraising,Lecture,Music,Special Event
ATTACH;FMTTYPE=image/jpeg:https://cathedralartsdallas.org/wp-content/uploads/2023/09/IMG_4842-CROPPED.jpg
ORGANIZER;CN="St. Matthew's Cathedral Arts":MAILTO:info@cathedralartsdallas.org
END:VEVENT
BEGIN:VEVENT
DTSTART;TZID=UTC:20211201T190000
DTEND;TZID=UTC:20211215T190000
DTSTAMP:20260424T093730
CREATED:20211103T210609Z
LAST-MODIFIED:20211105T022608Z
UID:5101-1638385200-1639594800@cathedralartsdallas.org
SUMMARY:Handel's Messiah: Three Evenings with Jordan Hammons
DESCRIPTION:Join Jordan Hammons on three Wednesday evenings during Advent for a deep dive into one of the most famous and widely shared pieces in music history.\nWednesdays\, December 1\, 8\, and 15 at 7:00 pm\nOnline on the Zoom video platform\nFree registration!\nSend an email to erica@episcopalcathedral.org \n \nIt is the Lenten season in London\, 1743\, the night of March 23\, and the theater-going public is in a chastened mood. No plays\, no operas—in fact\, no secular entertainments of any kind—seem appropriate now\, and indeed\, it is hard to find them during this forty-day season of penance and reflection before the gladness of Easter…Tonight Handel wears and an anxious expression\, and again one cannot help but wonder why. The knowledgeable in the audience know the identity of the expensively dressed gentleman sitting in a very good seat…scowling all the while. This is Charles Jennens\, wealthy squire of Gopsal estate… and writer of the libr[etto] for tonight’s entertainment. – Tim Slover \nPerhaps no work in the Classical music canon is more popular during the Advent season than Handel’s Messiah. Woven into the music is a rich fabric of Scripture that captures the specific goals of the work’s author (or librettist)\, Charles Jennens. Messiah stitches together verses from across the Bible into a reflection and commentary on the prophecy and Passion of Jesus. In our offering\, Messiah: The Lord Gave the Word we will look at several passages from Jennens’ libretto: where they are sourced Biblically\, how they reflect the theology of the eighteenth-century Church of England\, and how these passages are understood in our modern context. Don’t worry\, we’ll listen to some beautiful music as well! – Jordan Hammons \nWednesdays\, December 1\, 8\, and 15 at 7:00 pm\nOnline on the Zoom video platform\nFree registration!\nSend an email to erica@episcopalcathedral.org \nEvent flyer here. \nAbout Jordan Hammons \n \nJordan Hammons is a native of Alabama. An accomplished tenor\, he was seen most recently as Eddie Pensier in The Dallas Opera’s production of John Davie’s The Bremen Town Musicians. Mr. Hammons has performed Macheath in Britten’s The Beggar’s Opera\, the Podestà in Mozart’s La finta giardiniera\, and Aeneas in Purcell’s Dido and Aeneas. He received praise from Theatre Jones for capturing the character’s “pathetic\, beaten-dog quality” in his portrayal of Little Bat in Floyd’s Susannah. As a concert soloist\, Mr. Hammons has been featured in The Seven Last Words of Christ (DuBois)\, Messiah (Handel)\, Serenade (Britten)\, and Magnificat (Bach). He has also presented chamber concerts including Benjamin Britten’s Canticle III: Still Falls the Rain\, John Corigliano’s Three Irish Folksongs\, and Vita Brevis by Paul Moravec. Mr. Hammons holds a Bachelor of Arts from Millsaps College and a Performer’s Diploma and Master of Music Degree from Southern Methodist University\, where he was awarded the Roy and Sue Johnson Award for excellence in opera. \nVisit Jordan Hammons online here.
URL:https://cathedralartsdallas.org/event/messiah-lectures-jordan-hammons-december-2021/
LOCATION:Zoom Video Platform\, TX\, United States
CATEGORIES:Lecture,Music,Special Event
ATTACH;FMTTYPE=image/jpeg:https://cathedralartsdallas.org/wp-content/uploads/2021/11/Messiah-Lectures-December-2021-square-e1635969237436.jpg
ORGANIZER;CN="St. Matthew's Cathedral Arts":MAILTO:info@cathedralartsdallas.org
END:VEVENT
END:VCALENDAR