BEGIN:VCALENDAR
VERSION:2.0
PRODID:-//St. Matthew&#039;s Cathedral Arts - ECPv6.15.20//NONSGML v1.0//EN
CALSCALE:GREGORIAN
METHOD:PUBLISH
X-WR-CALNAME:St. Matthew&#039;s Cathedral Arts
X-ORIGINAL-URL:https://cathedralartsdallas.org
X-WR-CALDESC:Events for St. Matthew&#039;s Cathedral Arts
REFRESH-INTERVAL;VALUE=DURATION:PT1H
X-Robots-Tag:noindex
X-PUBLISHED-TTL:PT1H
BEGIN:VTIMEZONE
TZID:UTC
BEGIN:STANDARD
TZOFFSETFROM:+0000
TZOFFSETTO:+0000
TZNAME:UTC
DTSTART:20170101T000000
END:STANDARD
END:VTIMEZONE
BEGIN:VEVENT
DTSTART;VALUE=DATE:20200917
DTEND;VALUE=DATE:20200918
DTSTAMP:20260424T104534
CREATED:20200811T033535Z
LAST-MODIFIED:20200917T232058Z
UID:4405-1600300800-1600387199@cathedralartsdallas.org
SUMMARY:2020 North Texas Giving Day
DESCRIPTION:Consider a contribution to the ninth season of\nSaint Matthew’s Cathedral Arts!\nEach year\, generous donors like you participate in the community-wide North Texas Giving Day\, coming\nThursday\, September 17\, 6:00 am until midnight. \nFor your convenience\, donors can schedule their gifts before Giving Day!\nSchedule your gift at any time HERE. \nMark your calendar and visit NorthTexasGivingDay.org for more information.\nThanks for your support of Saint Matthew’s Cathedral Arts!
URL:https://cathedralartsdallas.org/event/2020-north-texas-giving-day/
LOCATION:Zoom Video Platform\, TX\, United States
CATEGORIES:Special Event
END:VEVENT
BEGIN:VEVENT
DTSTART;VALUE=DATE:20200615
DTEND;VALUE=DATE:20200621
DTSTAMP:20260424T104534
CREATED:20200214T173045Z
LAST-MODIFIED:20200523T035415Z
UID:4232-1592179200-1592697599@cathedralartsdallas.org
SUMMARY:Byzantine Icon Painting Workshop with Theodoros Papadopoulos CANCELLED
DESCRIPTION:Renowned Greek iconographer Theodoros Papadopoulos leads summer painting workshops across Europe and the U.S. He is offering a six-day workshop in the Greek Byzantine style at St. Matthew’s Cathedral. The workshop will be held Monday-Saturday\, June 15-20 from 9:00 to 5:00 each day. The cost for the course is $685. Most of the materials are included. You do not have to be a highly-skilled artist to enroll\, only someone seeking to deepen their spirituality. Because of the intense nature of instruction\, only twelve students are allowed. \nPlease contact Valerie Kaiser at valvkaiser@gmail.com for more detailed information. \nFrom the Artist: \nThe obligations and responsibilities of an iconographer who takes over the illustration of a holy church are enormous. I do not think there is a greater challenge for such an artist than taking on such a project. It is very easy to fill the walls with icons. But for me merely filling space is not significant. The most important part is the study of the church’s architecture\, which will lead to a building taking on the appearance of one whole area which appears united by its surroundings. I strive to understand the interior of the church as a single composition\, where all the pieces must be connected and in full color and architectural harmony.  The fragmentation of the surface with multiple partitions into small and disconnected painting issues may cause disharmony and tension to the viewer-believer. The artist’s work should help to achieve harmony\, humility\, inner peace and tranquility in order to prepare believers for the sacrament of the Eucharist. \nThe iconographer’s work resembles that of a priest. As St. Theodosius the Hermit says\, “One composes the blood of Christ\, and the other presents it”. Iconography is a religious act. The artist’s mission is to translate the images he presents into spirit in order to touch the soul of the believer with his work. Being aware of the seriousness and the importance of such a project\, and being a strict judge of my own work\, I have set as my main objective to present a work which fulfills its purpose and remains faithful to the spirit and doctrine of the Orthodox Church. But iconography should not be characterized by static\, photocopying and sterile imitation of past images. The artist must widen\, enrich and constantly renew his work. – Theodoros Papadopoulos \nEvent flyer here.
URL:https://cathedralartsdallas.org/event/byzantine-icon-painting-workshop-with-theodoros-papadopoulos-june-2020/
LOCATION:Zoom Video Platform\, TX\, United States
CATEGORIES:Education,Special Event
ATTACH;FMTTYPE=image/jpeg:https://cathedralartsdallas.org/wp-content/uploads/2019/03/Icon-Workshop-August-2019.jpg
ORGANIZER;CN="St. Matthew's Cathedral Arts":MAILTO:info@cathedralartsdallas.org
END:VEVENT
BEGIN:VEVENT
DTSTART;TZID=UTC:20200208T100000
DTEND;TZID=UTC:20200208T150000
DTSTAMP:20260424T104534
CREATED:20200110T054717Z
LAST-MODIFIED:20200117T060751Z
UID:4019-1581156000-1581174000@cathedralartsdallas.org
SUMMARY:Master Class with Sandra Mogensen
DESCRIPTION:Saturday\, February 8\n10:00 am to noon / 1:00 pm to 3:00 pm\nFree parking and admission \n2020 Distinguished Artist Sandra Mogensen returns to St. Matthew’s to conduct a master class with outstanding vocalists and instrumentalists from Texas Woman’s University\, Southern Methodist University\, Texas Christian University and the University of North Texas. \n\nRead more about the artist here.
URL:https://cathedralartsdallas.org/event/master-classes-with-sandra-mogensen/
LOCATION:Zoom Video Platform\, TX\, United States
CATEGORIES:Music,Special Event
ATTACH;FMTTYPE=image/jpeg:https://cathedralartsdallas.org/wp-content/uploads/2020/01/Sandra-Mogensen-swing.jpg
ORGANIZER;CN="St. Matthew's Cathedral Arts":MAILTO:info@cathedralartsdallas.org
END:VEVENT
BEGIN:VEVENT
DTSTART;TZID=UTC:20191011T183000
DTEND;TZID=UTC:20191011T183000
DTSTAMP:20260424T104534
CREATED:20190821T052553Z
LAST-MODIFIED:20190906T153411Z
UID:3623-1570818600-1570818600@cathedralartsdallas.org
SUMMARY:Cathedral Arts Benefit Gala
DESCRIPTION:The immensely popular annual Cathedral Arts Benefit Gala presents From Bach to Broadway on October 11.\nEnjoy a fabulous dinner with wines and champagne\, a huge silent auction and entertainment from some of the best singers in Dallas!\nThe silent auction currently includes exciting goods and services from these generous donors:\nAlamo Draft House / Arthur Murray Dallas / Billy Bob’s Texas / Cara Mia Theatre Company / Dallas Children’s Theater / Dallas Zoo / Eisemann Center / Frisco Heritage Museum / Frontiers of Flight / Garland Symphony Orchestra / Kitchen Dog Theater / Lone Star Park / Modern Art Museum of Fort Worth / Mozzarella Company / Museum of Biblical Art / NRH20 Family Water Park / Old Red Museum / Pocket Sandwich Theatre / Shakespeare in the Park / Southfork Ranch / SpeedZone Dallas / Stage West Theatre / Strikz Entertainment / Texas Motor Speedway / Uptown Yoga\nProceeds from this signature event support the eighth season of free public arts and educational events at St. Matthew’s Cathedral Arts.\nFRIDAY\, OCTOBER 11 at 6:30 PM\nGREAT HALL\nSeating is limited!\nReserve your tickets online HERE or call 214.957.4177.
URL:https://cathedralartsdallas.org/event/benefit-gala-and-silent-auction-10-11-19/
LOCATION:Zoom Video Platform\, TX\, United States
CATEGORIES:Special Event
ATTACH;FMTTYPE=image/jpeg:https://cathedralartsdallas.org/wp-content/uploads/2019/08/STM-gala-eventgraphic_B2B_final.jpg
END:VEVENT
BEGIN:VEVENT
DTSTART;VALUE=DATE:20190919
DTEND;VALUE=DATE:20190920
DTSTAMP:20260424T104534
CREATED:20190815T225934Z
LAST-MODIFIED:20190817T213300Z
UID:3555-1568851200-1568937599@cathedralartsdallas.org
SUMMARY:2019 North Texas Giving Day
DESCRIPTION:Consider a contribution to the eighth season of\nSaint Matthew’s Cathedral Arts!\nEach year\, generous donors like you participate in the community-wide North Texas Giving Day\, coming\nThursday\, September 19\, 6:00 am until midnight. \nFor your convenience\, donors can schedule their gifts before Giving Day!\nSchedule your gift at any time HERE. \nMark your calendar and visit NorthTexasGivingDay.org for more information.\nThanks for your support of Saint Matthew’s Cathedral Arts!
URL:https://cathedralartsdallas.org/event/north-texas-giving-day-2019/
LOCATION:Zoom Video Platform\, TX\, United States
CATEGORIES:Special Event
ATTACH;FMTTYPE=image/jpeg:https://cathedralartsdallas.org/wp-content/uploads/2019/08/2019-logo-no-slogan-no-background-e1565893636686.jpg
END:VEVENT
BEGIN:VEVENT
DTSTART;VALUE=DATE:20190805
DTEND;VALUE=DATE:20190811
DTSTAMP:20260424T104534
CREATED:20190320T201926Z
LAST-MODIFIED:20190423T202917Z
UID:3145-1564963200-1565481599@cathedralartsdallas.org
SUMMARY:Byzantine Icon Painting Workshop with Theodoros Papadopoulos
DESCRIPTION:Renowned Greek iconographer Theodoros Papadopoulos leads summer painting workshops across Europe and the U.S. He is offering a six-day workshop in the Greek Byzantine style at St. Matthew’s Cathedral. The workshop will be August 5–10 from 9:00 to 4:30 each day. The cost for the course is $685. Most of the materials are included. You do not have to be a highly-skilled artist to enroll\, only someone seeking to deepen their spirituality. Because of the intense nature of instruction\, only twelve students are allowed. \nPlease contact Valerie Kaiser at valvkaiser@gmail.com for more detailed information. \nFrom the Artist: \nThe obligations and responsibilities of an iconographer who takes over the illustration of a holy church are enormous. I do not think there is a greater challenge for such an artist than taking on such a project. It is very easy to fill the walls with icons. But for me merely filling space is not significant. The most important part is the study of the church’s architecture\, which will lead to a building taking on the appearance of one whole area which appears united by its surroundings. I strive to understand the interior of the church as a single composition\, where all the pieces must be connected and in full color and architectural harmony.  The fragmentation of the surface with multiple partitions into small and disconnected painting issues may cause disharmony and tension to the viewer-believer. The artist’s work should help to achieve harmony\, humility\, inner peace and tranquility in order to prepare believers for the sacrament of the Eucharist. \nThe iconographer’s work resembles that of a priest. As St. Theodosius the Hermit says\, “One composes the blood of Christ\, and the other presents it”. Iconography is a religious act. The artist’s mission is to translate the images he presents into spirit in order to touch the soul of the believer with his work. Being aware of the seriousness and the importance of such a project\, and being a strict judge of my own work\, I have set as my main objective to present a work which fulfills its purpose and remains faithful to the spirit and doctrine of the Orthodox Church. But iconography should not be characterized by static\, photocopying and sterile imitation of past images. The artist must widen\, enrich and constantly renew his work. – Theodoros Papadopoulos
URL:https://cathedralartsdallas.org/event/summer-icon-workshop-2019/
LOCATION:Zoom Video Platform\, TX\, United States
CATEGORIES:Special Event
ATTACH;FMTTYPE=image/jpeg:https://cathedralartsdallas.org/wp-content/uploads/2019/03/Icon-Workshop-August-2019.jpg
ORGANIZER;CN="St. Matthew's Cathedral Arts":MAILTO:info@cathedralartsdallas.org
END:VEVENT
BEGIN:VEVENT
DTSTART;TZID=UTC:20190209T093000
DTEND;TZID=UTC:20190209T140000
DTSTAMP:20260424T104534
CREATED:20190105T231534Z
LAST-MODIFIED:20190126T233913Z
UID:2990-1549704600-1549720800@cathedralartsdallas.org
SUMMARY:Master Class with Émile Naoumoff
DESCRIPTION:Saturday\, February 9 at 9:30 am\nGreat Hall\nFree parking and admission \n2018-19 Distinguished Artist Émile Naoumoff returns to St. Matthew’s to conduct a master class with select young pianists and a chamber music ensemble from Southern Methodist University’s Meadows School of the Arts. \n \nÉmile Naoumoff is Associate Professor of Music in piano at the Indiana University Jacobs School of Music\, where he has been on the faculty since 1998. He has been likened to both Vladimir Horowitz and Arthur Rubinstein as a pianist\, displaying — as one critic remarked — the fire of the former and the poetry of the latter. Émile revealed himself as a musical prodigy at age five\, taking up the piano and adding composition to his studies a year later. At the age of seven\, after a fateful meeting in Paris\, he became the last disciple of the legendary Nadia Boulanger\, who referred to him as “The gift of my old age.” He studied with her until her death in late 1979. During this auspicious apprenticeship\, Mlle. Boulanger gave him the opportunity to work with Clifford Curzon\, Igor Markevitch\, Robert and Gaby Casadesus\, Nikita Magaloff\, Jean Francaix\, Leonard Bernstein\, Soulima Stravinsky\, Aram Khachaturian and Yehudi Menuhin. Lord Menuhin conducted the premiere of Émile’s first piano concerto\, with the composer as a soloist\, when he was ten years old. At the same time\, he pursued music courses at the Paris Conservatory with Lelia Gousseau\, Pierre Sancan\, and Genevieve Joy-Dutilleux\, and studied conducting at the École Normale de Musique de Paris with Pierre Dervaux. \nÉmile regularly appears with the world’s premier orchestras: the Los Angeles Philharmonic\, the Berlin Symphony\, the Vienna Symphony\, the San Francisco Symphony\, National Symphony in Washington\, Moscow Symphony\, NHK Symphony\, the Residentie Orkest of the Hague\, Orchestre Philharmonique de Radio-France\, Camerata Bern\, and has worked closely with conductors such as Leonard Bernstein\, Igor Markevitch\, Leonard Slatkin\, Mstislav Rostropovich and Eliahu Inbal. His musical collaborations include Jean-Pierre Rampal\, Gerard Souzay\, Yo-Yo Ma\, Gary Hoffman\, Olivier Charlier\, Patrice Fontanarosa\, Regis Pasquier\, Philippe Graffin\, Philippe Bernold\, Gerard Caussé\, Jean Ferrandis\, Dominique de Williencourt and the Fine Arts Quartet. \nHighlights of his career include a performance of the Grieg Piano Concerto with the Los Angeles Philharmonic at the Hollywood Bowl\, and his own piano concerto version of Moussorgsky’s Pictures at an Exhibition with the National Symphony Orchestra at the Kennedy Center in Washington\, D.C. under the baton of Mstislav Rostropovich. In recent years Émile has been invited to numerous music festivals\, including the San Francisco Friends of Chamber Music’s Menuhin Seminars\, Santander Summer Masterclasses\, Verbier Academy Festival\, the Banff Center\, and residencies at Conservatory of Barcelona (ESMUC). In 1996\, he opened his own summer academy at the Château de Rangiport in Gargenville\, France\, in the spirit of Nadia Boulanger. He is an avid composer of French mélodies\, and is known for his mastery in transcribing music for the piano. Émile maintains a video journal of daily improvisations on his YouTube channel. \nRead more about the artist here.
URL:https://cathedralartsdallas.org/event/emile-naoumoff-master-class/
LOCATION:Zoom Video Platform\, TX\, United States
CATEGORIES:Music,Special Event
ATTACH;FMTTYPE=image/jpeg:https://cathedralartsdallas.org/wp-content/uploads/2019/01/Naoumoff-Master-Class.jpg
ORGANIZER;CN="St. Matthew's Cathedral Arts":MAILTO:info@cathedralartsdallas.org
END:VEVENT
BEGIN:VEVENT
DTSTART;TZID=UTC:20181012T183000
DTEND;TZID=UTC:20181012T213000
DTSTAMP:20260424T104534
CREATED:20180908T234619Z
LAST-MODIFIED:20180923T221443Z
UID:2715-1539369000-1539379800@cathedralartsdallas.org
SUMMARY:Cathedral Arts Benefit Gala and Silent Auction
DESCRIPTION:The immensely popular annual Cathedral Arts Benefit Gala presents With One Look: The Music of Andrew Lloyd Webber on October 12.\nProceeds from this signature event help support the seventh season of free public arts and educational events at\nSt. Matthew’s Cathedral.\nFRIDAY\, OCTOBER 12\, 6:30 PM\nGREAT HALL\nSeating is limited! Reserve your tickets online HERE. \n 
URL:https://cathedralartsdallas.org/event/benefit-gala-and-silent-auction-10-12-18/
LOCATION:Zoom Video Platform\, TX\, United States
CATEGORIES:Special Event
ATTACH;FMTTYPE=image/jpeg:https://cathedralartsdallas.org/wp-content/uploads/2018/09/STM-facebookheader-gala-eventgraphic-1.jpeg
END:VEVENT
BEGIN:VEVENT
DTSTART;TZID=UTC:20180920T060000
DTEND;TZID=UTC:20180920T235900
DTSTAMP:20260424T104534
CREATED:20180810T024618Z
LAST-MODIFIED:20180917T231636Z
UID:2659-1537423200-1537487940@cathedralartsdallas.org
SUMMARY:North Texas Giving Day
DESCRIPTION:Consider a contribution to the seventh season of\nSaint Matthew’s Cathedral Arts!\nEach year\, generous donors like you participate in the community-wide North Texas Giving Day\, coming\nThursday\, September 20\, 6:00 am until midnight. \nFor your convenience\, donors can schedule their gifts before Giving Day!\nSchedule your gift at any time HERE. \nMark your calendar and visit NorthTexasGivingDay.org for more information.\nThanks for your support of Saint Matthew’s Cathedral Arts!
URL:https://cathedralartsdallas.org/event/north-texas-giving-day-2018/
LOCATION:Zoom Video Platform\, TX\, United States
CATEGORIES:Special Event
ATTACH;FMTTYPE=image/jpeg:https://cathedralartsdallas.org/wp-content/uploads/2018/08/NTGD-2018-Logo-3.jpg
END:VEVENT
END:VCALENDAR