BEGIN:VCALENDAR
VERSION:2.0
PRODID:-//St. Matthew&#039;s Cathedral Arts - ECPv6.15.20//NONSGML v1.0//EN
CALSCALE:GREGORIAN
METHOD:PUBLISH
X-ORIGINAL-URL:https://cathedralartsdallas.org
X-WR-CALDESC:Events for St. Matthew&#039;s Cathedral Arts
REFRESH-INTERVAL;VALUE=DURATION:PT1H
X-Robots-Tag:noindex
X-PUBLISHED-TTL:PT1H
BEGIN:VTIMEZONE
TZID:UTC
BEGIN:STANDARD
TZOFFSETFROM:+0000
TZOFFSETTO:+0000
TZNAME:UTC
DTSTART:20220101T000000
END:STANDARD
END:VTIMEZONE
BEGIN:VEVENT
DTSTART;TZID=UTC:20231001T150000
DTEND;TZID=UTC:20231001T150000
DTSTAMP:20260424T083357
CREATED:20230811T025057Z
LAST-MODIFIED:20230812T212826Z
UID:6070-1696172400-1696172400@cathedralartsdallas.org
SUMMARY:Texas Camerata in Concert
DESCRIPTION:The Voice of the Baroque\npresenting the nationally acclaimed Baroque ensemble\nTEXAS CAMERATA\nwith\nDAVID GROGAN\, BARITONE\nmusic of\nJOHANN HEINRICH SCHMELZER\nALESSANDRO MARCELLO\nANTONIO VIVALDI\nJOHANN SEBASTIAN BACH\nSUNDAY\, OCTOBER 1\n3:00 PM\nFREE PARKING AND ADMISSION\nEvent flyer HERE.
URL:https://cathedralartsdallas.org/event/texas-camerata-in-concert-10-1-23/
LOCATION:St. Matthew’s Cathedral\, 5100 Ross Avenue at North Henderson\, Dallas\, TX\, 75206\, United States
CATEGORIES:Music,Special Event,Texas Camerata
ATTACH;FMTTYPE=image/jpeg:https://cathedralartsdallas.org/wp-content/uploads/2023/07/Texas-Camerata-2.jpg
ORGANIZER;CN="St. Matthew's Cathedral Arts":MAILTO:info@cathedralartsdallas.org
END:VEVENT
END:VCALENDAR