BEGIN:VCALENDAR
VERSION:2.0
PRODID:-//St. Matthew&#039;s Cathedral Arts - ECPv6.15.20//NONSGML v1.0//EN
CALSCALE:GREGORIAN
METHOD:PUBLISH
X-WR-CALNAME:St. Matthew&#039;s Cathedral Arts
X-ORIGINAL-URL:https://cathedralartsdallas.org
X-WR-CALDESC:Events for St. Matthew&#039;s Cathedral Arts
REFRESH-INTERVAL;VALUE=DURATION:PT1H
X-Robots-Tag:noindex
X-PUBLISHED-TTL:PT1H
BEGIN:VTIMEZONE
TZID:UTC
BEGIN:STANDARD
TZOFFSETFROM:+0000
TZOFFSETTO:+0000
TZNAME:UTC
DTSTART:20230101T000000
END:STANDARD
END:VTIMEZONE
BEGIN:VEVENT
DTSTART;TZID=UTC:20260301T140000
DTEND;TZID=UTC:20260301T160000
DTSTAMP:20260423T185655
CREATED:20260109T182155Z
LAST-MODIFIED:20260208T221906Z
UID:7550-1772373600-1772380800@cathedralartsdallas.org
SUMMARY:BLUE GOAT STUDIO GROUP EXHIBITION Opening Reception
DESCRIPTION:New Expressions\nArtworks from the Blue Goat Studio\nPaintings and Ceramics\nMarch 1 through April 12\, 2026\nExhibit Opening and Artist Reception\nSunday\, March 1 at 2:00 pm\nJustus Sundermann Gallery\nINCLUDING ARTWORKS FROM\nLauren Cadieux · Adrienne Cortez\nSelena Dixon · Monika Eilerman\nSharon Hodges · Sara Holloway\nJulie Michel · Joyce McCulloch\nMary Nickell · Kristin O’Keefe\nElizabeth Rugg · Grant Schirpik\nJulia Stanger · Julian Wong\nKay Wyne\nVisit the Blue Goat Studio here.\nShare an event flyer here.
URL:https://cathedralartsdallas.org/event/blue-goat-studio-opening-reception/
LOCATION:Justus Sundermann Gallery\, St. Matthew’s Cathedral\, 5100 Ross Avenue at North Henderson\, Dallas\, TX\, 75206\, United States
CATEGORIES:Blue Goat Group,Sundermann Gallery,Visual Arts
ATTACH;FMTTYPE=image/jpeg:https://cathedralartsdallas.org/wp-content/uploads/2026/01/studio-1.jpg
END:VEVENT
BEGIN:VEVENT
DTSTART;VALUE=DATE:20260301
DTEND;VALUE=DATE:20260413
DTSTAMP:20260423T185655
CREATED:20260315T185945Z
LAST-MODIFIED:20260315T190219Z
UID:8315-1772323200-1776038399@cathedralartsdallas.org
SUMMARY:BLUE GOAT STUDIO GROUP EXHIBITION
DESCRIPTION:New Expressions\nArtworks from the Blue Goat Studio\nPaintings and Ceramics\nMarch 1 through April 12\, 2026\nJustus Sundermann Gallery\nINCLUDING ARTWORKS FROM\nLauren Cadieux · Adrienne Cortez\nSelena Dixon · Monika Eilerman\nSharon Hodges · Sara Holloway\nJulie Michel · Joyce McCulloch\nMary Nickell · Kristin O’Keefe\nElizabeth Rugg · Grant Schirpik\nJulia Stanger · Julian Wong\nKay Wyne\nVisit the Blue Goat Studio here.\nShare an event flyer here.
URL:https://cathedralartsdallas.org/event/blue-goat-studio-group-exhibition/
LOCATION:Justus Sundermann Gallery\, St. Matthew’s Cathedral\, 5100 Ross Avenue at North Henderson\, Dallas\, TX\, 75206\, United States
CATEGORIES:Blue Goat Group,Sundermann Gallery,Visual Arts
ATTACH;FMTTYPE=image/jpeg:https://cathedralartsdallas.org/wp-content/uploads/2026/01/studio-1.jpg
END:VEVENT
BEGIN:VEVENT
DTSTART;TZID=UTC:20260104T180000
DTEND;TZID=UTC:20260104T200000
DTSTAMP:20260423T185655
CREATED:20250913T175122Z
LAST-MODIFIED:20251124T124857Z
UID:7299-1767549600-1767556800@cathedralartsdallas.org
SUMMARY:OPEN HOUSE: A Celebration of Crèches
DESCRIPTION:OPEN HOUSE: A Celebration of Crèches\nA special event for the week of the Feast of the Epiphany\,\nin celebration of the magnificent crèches\ncreated for St. Matthew’s Cathedral by Tommy Bourgeois.\nMusic with Alison Read\, harp\, and Vilma Peguero\, cello\nMince Pies\, Seasonal Refreshments and Punch\nSUNDAY\, JANUARY 4 at 6:00 PM\nCATHEDRAL NAVE\nPUBLIC CORDIALLY INVITED\nEvent flyer HERE.
URL:https://cathedralartsdallas.org/event/open-house-a-celebration-of-creches/
LOCATION:St. Matthew’s Cathedral\, 5100 Ross Avenue at North Henderson\, Dallas\, TX\, 75206\, United States
CATEGORIES:Feast of the Epiphany / Three Crèches,Music,Open House,Special Event,Visual Arts
ATTACH;FMTTYPE=image/jpeg:https://cathedralartsdallas.org/wp-content/uploads/2024/09/L1047622-copy-scaled.jpg
ORGANIZER;CN="St. Matthew's Cathedral Arts":MAILTO:info@cathedralartsdallas.org
END:VEVENT
BEGIN:VEVENT
DTSTART;TZID=UTC:20250905T150000
DTEND;TZID=UTC:20251130T150000
DTSTAMP:20260423T185655
CREATED:20250905T173749Z
LAST-MODIFIED:20251106T181910Z
UID:7284-1757084400-1764514800@cathedralartsdallas.org
SUMMARY:PLACES OF PRAYER II: New Photographs from Eight Dallas Architects
DESCRIPTION:New Photographs by Eight Prominent Dallas Area Architects\nCarolyn Brown and Evelyn Luciani\, Curators\n*Justus Sundermann Gallery\nSeptember 5 through November 2025\n\nDallas developed as diverse people came to the city with ambitions and aspirations. They also brought their religious convictions. And they expressed all of it in architecture and art. Many religious traditions are observed by believers at their homes. Jews share Passover meals\, Muslims break the Ramadan fast\, and Hindus have shrines in homes where they live. Jews\, Hindus\, Muslims\, Buddhists\, Christians and others also practice their spirituality in places of prayer they create for their constituents and for the communities that they serve. They build structures that respect the texts they treasure and honor the history though which they have traveled. Some of their buildings dominate city blocks. Others are intimate and elegantly simple.  – William B. Lawrence\, Perkins School of Theology\, SMU \nFeaturing photographs by:\nDaisy Avalos\nJustin Curtsinger\nFrank Richards\nBob Sherman\nGary Skotnicki\nCharles Davis Smith\nNelson Spencer\nDiane Van Buren \n*Please note: the Justus Sundermann Gallery is located in a secured area of St. Matthew’s Cathedral. The Gallery is open to the public on Sundays from 9:00 am to 12:00 pm\, and at other times by appointment. Please contact Evelyn Luciani at 972.333.6675 / evelyn.luciani@outlook.com.\nEvent flyer HERE.
URL:https://cathedralartsdallas.org/event/places-of-prayer-ii-new-photographs-from-eight-dallas-architects/
LOCATION:Justus Sundermann Gallery\, St. Matthew’s Cathedral\, 5100 Ross Avenue at North Henderson\, Dallas\, TX\, 75206\, United States
CATEGORIES:Sundermann Gallery,Visual Arts
ATTACH;FMTTYPE=image/jpeg:https://cathedralartsdallas.org/wp-content/uploads/2025/09/Entry-Panel-cropped.jpg
END:VEVENT
BEGIN:VEVENT
DTSTART;TZID=UTC:20250427T140000
DTEND;TZID=UTC:20250427T140000
DTSTAMP:20260423T185655
CREATED:20250331T233803Z
LAST-MODIFIED:20250409T204459Z
UID:6985-1745762400-1745762400@cathedralartsdallas.org
SUMMARY:THREE POINTS OF VIEW Exhibition Opening Reception
DESCRIPTION:April 27 through May 31\, 2025\nExhibit Opening and Artist Reception\nSunday\, April 27 at 2:00 pm\nJustus Sundermann Gallery
URL:https://cathedralartsdallas.org/event/three-points-of-view-exhibit-opening-4-27-25/
LOCATION:Justus Sundermann Gallery\, St. Matthew’s Cathedral\, 5100 Ross Avenue at North Henderson\, Dallas\, TX\, 75206\, United States
CATEGORIES:Sundermann Gallery,Visual Arts
ATTACH;FMTTYPE=image/jpeg:https://cathedralartsdallas.org/wp-content/uploads/2025/03/IMG_6275.jpg
END:VEVENT
BEGIN:VEVENT
DTSTART;TZID=UTC:20240908T140000
DTEND;TZID=UTC:20240908T140000
DTSTAMP:20260423T185655
CREATED:20240616T173737Z
LAST-MODIFIED:20240909T215959Z
UID:6566-1725804000-1725804000@cathedralartsdallas.org
SUMMARY:Sundermann Gallery Third Invitational Multi-Media Exhibition Opening Reception
DESCRIPTION:Face to the Rising Sun (paper collage) by Pamela Nelson ©2024\nSeptember 8 through November 10\, 2024\nExhibit Opening and Artist Reception\nSunday\, September 8 at 2:00 pm\nJustus Sundermann Gallery\nEvent Flyer\nFeaturing works by these distinguished DFW-area visual artists: \nDaisy Avalos\nJessica Bell\nRichard Boul\nCarolyn Brown\nRod Carver\nLaShonda Cooks\nColin Coolidge\nJuliana Crownover\nWalter Davis\nAnnie Ehrenreich\nAnnie Foster\nGrace Glover\nJoyce McCullough\nMargo Miller\nPamela Nelson\nFrank Richards\nEfrain Sain\nRoger Shackelford\nCharles Davis Smith\nJohn Struckmeyer\nJana Swart\nDiane Van Buren \nCathedral Arts has invited prominent Dallas-area visual artists to participate in the Third Invitational Multi-Media Exhibition\, to be held in the Justus Sundermann Gallery from September 8 through November 10. Invited artists have previously exhibited in the Sundermann Gallery or have been recommended to the curatorial committee by Cathedral Arts patrons.\n22 selected artists are represented in this major exhibition of painting\, photography\, sculpture and mixed media. The Invitational Exhibition provides outreach to support the work of area artists and promote the Justus Sundermann Gallery as an outstanding exhibition space\, further recognizing St. Matthew’s Cathedral as a home for the visual and performing arts as well as a welcoming place of worship in Old East Dallas. The public is cordially invited.
URL:https://cathedralartsdallas.org/event/sundermann-gallery-third-invitational-multi-media-exhibition-opening-reception/
LOCATION:Justus Sundermann Gallery\, St. Matthew’s Cathedral\, 5100 Ross Avenue at North Henderson\, Dallas\, TX\, 75206\, United States
CATEGORIES:Sundermann Gallery,Visual Arts
ATTACH;FMTTYPE=image/jpeg:https://cathedralartsdallas.org/wp-content/uploads/2024/07/IMG_0915-P-NELSON.jpg
END:VEVENT
END:VCALENDAR