BEGIN:VCALENDAR
VERSION:2.0
PRODID:-//St. Matthew&#039;s Cathedral Arts - ECPv6.15.20//NONSGML v1.0//EN
CALSCALE:GREGORIAN
METHOD:PUBLISH
X-WR-CALNAME:St. Matthew&#039;s Cathedral Arts
X-ORIGINAL-URL:https://cathedralartsdallas.org
X-WR-CALDESC:Events for St. Matthew&#039;s Cathedral Arts
REFRESH-INTERVAL;VALUE=DURATION:PT1H
X-Robots-Tag:noindex
X-PUBLISHED-TTL:PT1H
BEGIN:VTIMEZONE
TZID:UTC
BEGIN:STANDARD
TZOFFSETFROM:+0000
TZOFFSETTO:+0000
TZNAME:UTC
DTSTART:20240101T000000
END:STANDARD
END:VTIMEZONE
BEGIN:VEVENT
DTSTART;TZID=UTC:20250511T150000
DTEND;TZID=UTC:20250511T150000
DTSTAMP:20260425T081041
CREATED:20241018T214614Z
LAST-MODIFIED:20250411T175730Z
UID:6894-1746975600-1746975600@cathedralartsdallas.org
SUMMARY:MOTHER'S DAY AFTERNOON CONCERT
DESCRIPTION:presenting\nTHE DALLAS OPERA\nEDUCATION AND OUTREACH SINGERS\nwith\nMARY DIBBERN\nand\nSARA STEELE\npiano\nSUNDAY\, MAY 11 at 3:00 PM\nGREAT HALL\nFREE COVERED PARKING AND ADMISSION\nEVENT FLYER HERE.
URL:https://cathedralartsdallas.org/event/mothers-day-afternoon-concert/
LOCATION:Great Hall\, St. Matthew’s Cathedral\, 5100 Ross Avenue at North Henderson\, Dallas\, TX\, 75206\, United States
CATEGORIES:Music,Recital,Vocal Music
ATTACH;FMTTYPE=image/jpeg:https://cathedralartsdallas.org/wp-content/uploads/2024/10/Mothers-Day-Flowers-e1729287875541.jpg
ORGANIZER;CN="St. Matthew's Cathedral Arts":MAILTO:info@cathedralartsdallas.org
END:VEVENT
END:VCALENDAR