BEGIN:VCALENDAR
VERSION:2.0
PRODID:-//St. Matthew&#039;s Cathedral Arts - ECPv6.15.20//NONSGML v1.0//EN
CALSCALE:GREGORIAN
METHOD:PUBLISH
X-WR-CALNAME:St. Matthew&#039;s Cathedral Arts
X-ORIGINAL-URL:https://cathedralartsdallas.org
X-WR-CALDESC:Events for St. Matthew&#039;s Cathedral Arts
REFRESH-INTERVAL;VALUE=DURATION:PT1H
X-Robots-Tag:noindex
X-PUBLISHED-TTL:PT1H
BEGIN:VTIMEZONE
TZID:UTC
BEGIN:STANDARD
TZOFFSETFROM:+0000
TZOFFSETTO:+0000
TZNAME:UTC
DTSTART:20240101T000000
END:STANDARD
END:VTIMEZONE
BEGIN:VEVENT
DTSTART;TZID=UTC:20250918T060000
DTEND;TZID=UTC:20250918T235900
DTSTAMP:20260425T102811
CREATED:20250827T174502Z
LAST-MODIFIED:20250827T174844Z
UID:7269-1758175200-1758239940@cathedralartsdallas.org
SUMMARY:2025 NORTH TEXAS GIVING DAY
DESCRIPTION:Help support the fourteenth season of St. Matthew’s Cathedral Arts!\nEach year\, generous donors like you participate in the community-wide North Texas Giving Day\, coming Thursday\, September 18\, 6:00 a.m. until midnight.\nFor your convenience\, donors can make their gifts before Giving Day! Beginning August 28\, enter your gift HERE.\nA special announcement!\nThis year we’re thrilled to announce a major matching gift challenge! A generous donor has pledged to match dollar-for-dollar every donation made online through North Texas Giving Day\, up to a total of $2\,000. Starting August 28\, every dollar you give until the match is completed will become $2.00 to support the free public programs of Cathedral Arts!\nMark your calendar and visit NorthTexasGivingDay.org for more information.\nThanks for your support of Saint Matthew’s Cathedral Arts!
URL:https://cathedralartsdallas.org/event/2025-north-texas-giving-day/
CATEGORIES:Special Event
ATTACH;FMTTYPE=image/png:https://cathedralartsdallas.org/wp-content/uploads/2025/08/NTGD_Logo_Vertical_FullColor.png
END:VEVENT
END:VCALENDAR