BEGIN:VCALENDAR
VERSION:2.0
PRODID:-//St. Matthew&#039;s Cathedral Arts - ECPv6.15.20//NONSGML v1.0//EN
CALSCALE:GREGORIAN
METHOD:PUBLISH
X-WR-CALNAME:St. Matthew&#039;s Cathedral Arts
X-ORIGINAL-URL:https://cathedralartsdallas.org
X-WR-CALDESC:Events for St. Matthew&#039;s Cathedral Arts
REFRESH-INTERVAL;VALUE=DURATION:PT1H
X-Robots-Tag:noindex
X-PUBLISHED-TTL:PT1H
BEGIN:VTIMEZONE
TZID:UTC
BEGIN:STANDARD
TZOFFSETFROM:+0000
TZOFFSETTO:+0000
TZNAME:UTC
DTSTART:20230101T000000
END:STANDARD
END:VTIMEZONE
BEGIN:VEVENT
DTSTART;TZID=UTC:20240919T060000
DTEND;TZID=UTC:20240919T235900
DTSTAMP:20260425T075018
CREATED:20240619T231306Z
LAST-MODIFIED:20240909T220929Z
UID:6569-1726725600-1726790340@cathedralartsdallas.org
SUMMARY:2024 NORTH TEXAS GIVING DAY
DESCRIPTION:Help support the thirteenth season of St. Matthew’s Cathedral Arts!\nEach year\, generous donors like you participate in the community-wide North Texas Giving Day\, coming Thursday\, September 19\, 6:00 a.m. until midnight.\nFor your convenience\, donors can make their gifts before Giving Day! Beginning September 1\, enter your gift HERE.\nMark your calendar and visit NorthTexasGivingDay.org for more information.\nThanks for your support of Saint Matthew’s Cathedral Arts!
URL:https://cathedralartsdallas.org/event/2024-north-texas-giving-day/
LOCATION:TX
CATEGORIES:Special Event
ATTACH;FMTTYPE=image/png:https://cathedralartsdallas.org/wp-content/uploads/2024/06/ntgd-logo-RGB_44.vertical-fullcolor-dated-e1718839464285.png
END:VEVENT
END:VCALENDAR