BEGIN:VCALENDAR
VERSION:2.0
PRODID:-//St. Matthew&#039;s Cathedral Arts - ECPv6.15.20//NONSGML v1.0//EN
CALSCALE:GREGORIAN
METHOD:PUBLISH
X-WR-CALNAME:St. Matthew&#039;s Cathedral Arts
X-ORIGINAL-URL:https://cathedralartsdallas.org
X-WR-CALDESC:Events for St. Matthew&#039;s Cathedral Arts
REFRESH-INTERVAL;VALUE=DURATION:PT1H
X-Robots-Tag:noindex
X-PUBLISHED-TTL:PT1H
BEGIN:VTIMEZONE
TZID:UTC
BEGIN:STANDARD
TZOFFSETFROM:+0000
TZOFFSETTO:+0000
TZNAME:UTC
DTSTART:20240101T000000
END:STANDARD
END:VTIMEZONE
BEGIN:VEVENT
DTSTART;TZID=UTC:20250222T140000
DTEND;TZID=UTC:20250222T163000
DTSTAMP:20260424T222904
CREATED:20240917T154528Z
LAST-MODIFIED:20241018T215853Z
UID:6756-1740232800-1740241800@cathedralartsdallas.org
SUMMARY:2025 DISTINGUISHED ARTIST MASTER CLASS with Kristina Zmailaitė and Edmundas Seilius
DESCRIPTION:2025 DISTINGUISHED ARTIST WEEKEND\npresenting a master class with\nSoprano Kristina Zmailaitè and Tenor Edmundas Seilius\nMary Dibbern\, piano\nfeaturing vocal artists from\nThe Dallas Opera Education and Outreach Program\n\nSaturday\, February 22\, 2:00 – 4:30 pm\nGreat Hall\nfree parking and admission \nEvent flyer HERE.
URL:https://cathedralartsdallas.org/event/2025-distinguished-artist-master-class-with-kristina-zmailaite-and-edmundas-seilius/
LOCATION:Great Hall\, St. Matthew’s Cathedral\, 5100 Ross Avenue at North Henderson\, Dallas\, TX\, 75206\, United States
CATEGORIES:Education,Master Class,Music
ATTACH;FMTTYPE=image/jpeg:https://cathedralartsdallas.org/wp-content/uploads/2024/09/live-gallery-in-black-vakarelis-54384530c238b.jpg
ORGANIZER;CN="St. Matthew's Cathedral Arts":MAILTO:info@cathedralartsdallas.org
END:VEVENT
END:VCALENDAR